BEGIN:VCALENDAR
VERSION:2.0
PRODID:-//Köieparadiis - ECPv6.12.0//NONSGML v1.0//EN
CALSCALE:GREGORIAN
METHOD:PUBLISH
X-ORIGINAL-URL:https://www.koieparadiis.ee
X-WR-CALDESC:Events for Köieparadiis
REFRESH-INTERVAL;VALUE=DURATION:PT1H
X-Robots-Tag:noindex
X-PUBLISHED-TTL:PT1H
BEGIN:VTIMEZONE
TZID:Europe/Tallinn
BEGIN:DAYLIGHT
TZOFFSETFROM:+0200
TZOFFSETTO:+0300
TZNAME:EEST
DTSTART:20260329T010000
END:DAYLIGHT
BEGIN:STANDARD
TZOFFSETFROM:+0300
TZOFFSETTO:+0200
TZNAME:EET
DTSTART:20261025T010000
END:STANDARD
END:VTIMEZONE
BEGIN:VEVENT
DTSTART;TZID=Europe/Tallinn:20260304T190000
DTEND;TZID=Europe/Tallinn:20260304T220000
DTSTAMP:20260419T165524
CREATED:20260216T202927Z
LAST-MODIFIED:20260216T202956Z
UID:1978-1772650800-1772661600@www.koieparadiis.ee
SUMMARY:Shibari praktikaõhtu MAA 04.03.2026
DESCRIPTION:Shibari praktikaõhtu MAA keskendub küll kindlale aluspinnale\, ent see ei pruugi alati tähendada stabiilset olekut…\nKuigi sõlmed on olulised\, siis shibari ei pea olema puhtalt perfektne nööri põimimine. Hoopis huvitavamaks võib osutuda näiteks emotsioonide esile toomine nii seotavas kui sidujas või nendega situatsiooni teadlik juhtimine.\n\nUurime erinevaid dünaamikaid\, õpetame uusi sõlmi ja/või mängime meeleolukaid mänge ja üritame lõppu jätta piisavalt aega ka pikemaks sidumiseks.\nSellele praktikaõhtule on oodatud kõik\, kes juba on shibariga kokku puutunud\, ja ka need\, kes alles koguvad julgust esimeste sammude tegemiseks.\n\nVõid tulla koos paarilisega või üksinda. Sellel õhtul ei pea sa muretsema meelest läinud sõlmede või kaaslase puudumise pärast.\nÜritust viivad läbi Reeli ja Marko\n\nAlustame kell 19:00 ja lõpp orienteeruvalt 22:00\nTasakaalupanus: 30.- inimese kohta\n\nNagu ikka\, kui Sul on oma nöörid\, siis soovitame need kaasa haarata (mis nad kodus ikka tolmu koguvad ja kasutades muutuvad nad aina pehmemaks)!\nPalun kinnita oma üritusel osalemine registreerudes:\nhttps://forms.gle/F5H6rHCkt5EH9JaG8
URL:https://www.koieparadiis.ee/sundmus/shibari-praktikaohtu-maa-04-03-2026/
LOCATION:Köieparadiis\, Tartu mnt 80j\, Tallinn\, 10112\, Estonia
ATTACH;FMTTYPE=image/jpeg:https://www.koieparadiis.ee/wp-content/uploads/2026/02/IMG_4081a-scaled.jpg
END:VEVENT
BEGIN:VEVENT
DTSTART;TZID=Europe/Tallinn:20260306T190000
DTEND;TZID=Europe/Tallinn:20260306T223000
DTSTAMP:20260419T165524
CREATED:20260219T183510Z
LAST-MODIFIED:20260219T183510Z
UID:1995-1772823600-1772836200@www.koieparadiis.ee
SUMMARY:Rope Date - köiekohting
DESCRIPTION:💥Mõnikord võib tulla endalegi üllatuseks\, et lihtsalt eemalt kedagi vaadates ja mõeldes\, mis tunne võiks temaga shibari praktikat teha\, osutub reaalsuses hoopis teistsuguseks. Või hoopis on mure selles\, et ei olegi olnud seni võimalust konkreetse inimesega sellist kontakti luua nagu oleks soovinud.\n💥Või on teadmatus ja hirm paariliseta jääda seni takistanud meie praktikaõhtutele tulemast.💥Või tahaks kangesti leida püsivat harjutuspartnerit\, kellega koos siis sukelduda sellesse põnevasse köite maailma.💥Või soovid tulla tutvuma shibariga ning boonusena olla valmis positiivseks üllatuseks\, et kohtad kedagi\, kes su südame kiiremini põksuma paneb. \n\nSellel teistmoodi põneval köisi sisaldaval õhtul õnnestub igal juhul omavahel veidi rohkem tuttavaks saada ja katsetada milline on klapp erinevate inimestega.\nSiin me ei keskendu uute keeruliste sõlmede õppimisele vaid inimestele\, kuigi köied püsivad siiski kesksel kohal ja aitavad meil uudishimulikult kontakte luua. \n\nSeega pole üldse oluline\, mis tasemel sa shibarit oskad või kas üldse oskad. Oluline on ainult see\, et sind huvitavad köied ja sa sooviksid sagedamini olla ükskõik kummas rollis (siduja või seotav) ja leida uusi tutvusi või saada juba veidi tuttavate inimestega paremat kontakti.\nJuhendame mängulisi praktikaid\, mille abil saame omavahel rohkem tuttavamaks ning vaatame kuidas köied aktiveerivad erinevate inimeste vahel erinevaid energiaid ja räägivad justkui erinevas keeles.Praktiseerime kohalolus nii sõnadega kui sõnadeta suhtlust ning otsime üles oma piirid\, et teaksime\, millal öelda “ei” ja millal “jaa”. \n\nEelkõige on oodatud kõik üksikud hinged\, aga ka paarid\, kui on huvi sidumisõhtutel teisi energiaid kogeda. Juhul kui soovite aga ainult oma partneriga koos shibari võlusid nautida\, siis see üritus ei ole teile\, ent olete väga oodatud meie paaride õhtule.\n\nOled oodatud ja hoitud Marko ja Reeli poolt \nAlgus kell 19:00 ja lõpp orienteeruvalt kell 22:30\nOsaluspanus 30.-\nRiietu mugavatesse\, istumist ja astumist võimaldavatesse\, riietesse\, mis ei ole liiga lohvakad\, et köie taha takerduma kipuks. Naistel võib olla ka seelik/kleit\, mis ei tohiks olla aga väga kitsas. \n\nPalume kindlasti registreeruda!\nRegistreerumise link:https://forms.gle/ymExCA82ucCzCCr76
URL:https://www.koieparadiis.ee/sundmus/rope-date-koiekohting-3/
LOCATION:Köieparadiis\, Tartu mnt 80j\, Tallinn\, 10112\, Estonia
ATTACH;FMTTYPE=image/jpeg:https://www.koieparadiis.ee/wp-content/uploads/2026/02/rope-date-0326.jpg
END:VEVENT
BEGIN:VEVENT
DTSTART;TZID=Europe/Tallinn:20260314T130000
DTEND;TZID=Europe/Tallinn:20260314T170000
DTSTAMP:20260419T165524
CREATED:20260216T203724Z
LAST-MODIFIED:20260218T140411Z
UID:1985-1773493200-1773507600@www.koieparadiis.ee
SUMMARY:Shibari riputuse ABC 14.03.2026
DESCRIPTION:Riputamise ABC kursus on sobilik kõigile neile shibari huvilistele\, kes juba on mingil tasemel sidumisega kokku puutunud\, ent tunnevad tungivat soovi kõrgustesse pürgima asuda ja soovivad seda turvaliselt tegema õppida.\nKuna õhus rippudes on kaalul palju rohkem kui maapinnal\, siis ei saa me sellele kursusele vastu võtta inimesi\, kes eelnevalt üldse pole shibariga kokku puutunud või on alles värskelt tutvust teinud (soovitavalt ka modell võiks olla kursis baasteadmiste ja ohutusega).\n\nTeemad\, mida käsitleme:* erinevad viisid riputusköie lukustamiseks* rinna- & puusavöö ning nende funktsionaalsuste mõistmine* põhiliini ja kõrvalliinide erinevus ja kombinatsioonid (kinnitamised ja lukustamised)* köie pinge ja efekti mõistmine ja kontrollimine kehal* anatoomia & turvalisus kinni- ja lahti sidumisel* millele pöörata tähelepanu pärast riputust\, tagasiside ja järelhooldus\n\nMiinimum nõudmised kursusele tulemiseks:– sul on olemas baasteadmised ohutusest\, sõlmedest (single-column\, double-column\, futomomo)\, köie käsitlemisest\n\nMida kaasa võtta:Oma köied\, (karabiinid)\, soovitavalt ka rõngas (kui sa ei tea\, kust sobilikku saada\, küsi meilt lisainfot).\nOsalustasu paarile 100.- (kuni 07.03)edasi 120.-\nKohtade arv on piiratud! Broneerimiseks vajalik ettemaks 50.-\n\nOsalemine on ainult koos paarilisega\, kuna korraldaja ei saa garanteerida partnerit neile\, kel teda pole. Siiski palun võta ühendust kui sul on probleeme paarilise leidmisega\, proovime sind aidata nii palju kui suudame.\nRegistreerimine: https://forms.gle/qFhTC3fwqumrWkcH9\n\nKursust viivad läbi Reeli ja Marko.
URL:https://www.koieparadiis.ee/sundmus/shibari-riputuse-abc-14-03-2026/
LOCATION:Köieparadiis\, Tartu mnt 80j\, Tallinn\, 10112\, Estonia
ATTACH;FMTTYPE=image/jpeg:https://www.koieparadiis.ee/wp-content/uploads/2023/04/IMG-20230417-WA0000c.jpg
END:VEVENT
BEGIN:VEVENT
DTSTART;TZID=Europe/Tallinn:20260318T190000
DTEND;TZID=Europe/Tallinn:20260318T220000
DTSTAMP:20260419T165524
CREATED:20260220T092856Z
LAST-MODIFIED:20260221T094108Z
UID:1998-1773860400-1773871200@www.koieparadiis.ee
SUMMARY:Shibari praktikaõhtu TAEVAS 18.03.2026
DESCRIPTION:Shibari praktikaõhtu TAEVAS on praktilisi teadmisi andev õhtu edasijõudnutele\, kus on võimalus omandada uusi tehnikaid ja/või lihvida seniseid oskusi.\nÕpime erinevaid mustreid ja jagame inspiratsiooni kuidas osaliselt või täielikult õhus rippudes erinevaid kogemusi saab luua ja juhime tähelepanu olulistele elementidele\, et sidumine sujuvamalt ja ohutumalt kulgeks.\nTõstame partneri (või vahel ka iseennast) kõrgustesse ja aitame kogeda ümbritsevat maailma argipäevaga võrreldes hoopis teise nurga alt.Kuidas see õhtu seekord täpsemalt välja näeb? Tule kohale ja avasta \n\nSellele õhtule on oodatud huvilised\, kes on lisaks baassõlmedele ja ohutustehnikale kokku puutunud ka juba riputuse baastehnikatega.(Juhul kui sul neid teadmisi veel ei ole\, siis otsi meie lehelt infot Shibari algkursuse ja/või Riputuse ABC kursuse kohta  )\nÜritust viivad läbi Reeli ja Marko\nAlustame kell 19:00 ja lõpp orienteeruvalt 22:00\n\nHind: 30.- inimese kohta \n\nNagu ikka\, kui Sul on oma nöörid\, siis soovitame need kaasa haarata (mis nad kodus ikka tolmu koguvad ja kasutades muutuvad nad aina pehmemaks)!\nPalun kinnita oma üritusel osalemine registreerudes:\nhttps://forms.gle/d8QfxHe234qZ7xyp9
URL:https://www.koieparadiis.ee/sundmus/shibari-praktikaohtu-taevas-18-03-2026/
LOCATION:Köieparadiis\, Tartu mnt 80j\, Tallinn\, 10112\, Estonia
ATTACH;FMTTYPE=image/jpeg:https://www.koieparadiis.ee/wp-content/uploads/2025/12/1000024866-scaled.jpg
END:VEVENT
END:VCALENDAR