BEGIN:VCALENDAR
VERSION:2.0
PRODID:-//Köieparadiis - ECPv6.12.0//NONSGML v1.0//EN
CALSCALE:GREGORIAN
METHOD:PUBLISH
X-ORIGINAL-URL:https://www.koieparadiis.ee
X-WR-CALDESC:Events for Köieparadiis
REFRESH-INTERVAL;VALUE=DURATION:PT1H
X-Robots-Tag:noindex
X-PUBLISHED-TTL:PT1H
BEGIN:VTIMEZONE
TZID:Europe/Tallinn
BEGIN:DAYLIGHT
TZOFFSETFROM:+0200
TZOFFSETTO:+0300
TZNAME:EEST
DTSTART:20260329T010000
END:DAYLIGHT
BEGIN:STANDARD
TZOFFSETFROM:+0300
TZOFFSETTO:+0200
TZNAME:EET
DTSTART:20261025T010000
END:STANDARD
END:VTIMEZONE
BEGIN:VEVENT
DTSTART;TZID=Europe/Tallinn:20260204T190000
DTEND;TZID=Europe/Tallinn:20260204T220000
DTSTAMP:20260419T183451
CREATED:20251226T101319Z
LAST-MODIFIED:20260109T172650Z
UID:1874-1770231600-1770242400@www.koieparadiis.ee
SUMMARY:Shibari praktikaõhtu MAA: self tie! 04.02.2026
DESCRIPTION:Seekordsel shibari praktikaõhtul saab iga osaleja tunda ennast vabamalt kui muidu ning kogeda köit täpselt sellise tugevusega nagu talle meeldib.\n\nSamuti ei pea muretsema\, kas ma leian omale juba eelnevalt kaasa paarilise või milline õhtul kohapeal olema satub…sest me seome ISE ENNAST! \n\nSeega kogu fookus on sel korral iseenda sidumisel. Õpetame lihtsamaid tehnikaid\, mida kõiki on võmalik siduda iseenda peal ja teeme ka fantaasiarikkamaid harjutusi.\n\nSee õhtu sobib sulle ideaalselt kui sa:* soovid alustada shibari õppimisega\, aga sul ei ole partnerit* soovid lihtsalt harjutada shibarit igal võimalusel\, et saada järjest paremaks* soovid õppida ise ennast siduma\, kuna sulle meeldib köite puudutus ja sellest saadavad emotsioonid* soovid esmakordselt kogeda\, mis tunne on olla köites\, aga sulle ei meeldi mõte\, et seda teeb keegi võõras ja turvalist tuttavat pole võtta. \n\n\nKuigi ennast sidudes on võimalik isegi õhus rippumist kogeda\, siis seekordne õhtu on suunatud turvalisematele maas seotavatele tehnikatele. Kes tunneb\, et tahaks sealt edasi järgmisele tasemele jõuda\, siis usina kodus harjutamise järel võib tulevikus tulla meie self-suspensioni õhtule\, kus siis saab õppida turvaliselt üksinda õhus lendama. \n\nSellele praktikaõhtule on oodatud kõik\, kes juba on shibariga kokku puutunud\, ja ka need\, kes alles koguvad julgust esimeste sammude tegemiseks.\n\nOled oodatud nii üksinda kui koos sõbraga\, kuid sõpra siduda sel õhtul ei saa!  \n  \n\nÜritust viivad läbi Reeli ja Marko\nAlustame kell 19:00 ja lõpp orienteeruvalt 22:00\n\nTasakaalupanus: 30.- inimese kohta \n\n\nNagu ikka\, kui Sul on oma nöörid\, siis soovitame need kaasa haarata (mis nad kodus ikka tolmu koguvad ja kasutades muutuvad nad aina pehmemaks)! \n\nPalun kinnita oma üritusel osalemine registreerudes:\nhttps://forms.gle/afScvu5hS2dEcweW9
URL:https://www.koieparadiis.ee/sundmus/shibari-praktikaohtu-maa-04-02-2026/
LOCATION:Köieparadiis\, Tartu mnt 80j\, Tallinn\, 10112\, Estonia
ATTACH;FMTTYPE=image/jpeg:https://www.koieparadiis.ee/wp-content/uploads/2025/12/20201009_182756-scaled.jpg
END:VEVENT
BEGIN:VEVENT
DTSTART;TZID=Europe/Tallinn:20260211T190000
DTEND;TZID=Europe/Tallinn:20260211T220000
DTSTAMP:20260419T183451
CREATED:20251226T105845Z
LAST-MODIFIED:20260109T171325Z
UID:1881-1770836400-1770847200@www.koieparadiis.ee
SUMMARY:Shibari õhtu: Armastan Valu ❤️
DESCRIPTION:Seekordne shibari õhtu on pühendatud kõigile teile\, kellele meeldib valu või meeldib tekitada valu\, või soovid uurida\, kuidas erinev valu sind mõjutab.\nTutvume\, milline on hea ja milline halb valu. Mida tuleks vältida ja millega võib vabamalt soovi korral mängida?Kuidas kommunikeerida valuga shibarit harjutades kauaaegse partneriga ja mitte nii hästi tuttava inimesega?Katsetame erinevaid mustreid ja võtteid samal ajal enda ja paarilise piire järgides ja loomulikult ei puudu õhtust ka mänguline osa.\n\nSellele õhtule on oodatud kõik\, nii need\, kes juba on shibariga kokku puutunud\, ja ka need\, kes alles koguvad julgust esimeste sammude tegemiseks (ja intrigeerib valu teema).NB! Kellel on piisavalt oskusi\, selle mängud ei pea piirduma ainult maas olemisega  \n\nVõid tulla koos paarilisega või üksinda. Sellel õhtul ei pea sa muretsema meelest läinud sõlmede või kaaslase puudumise pärast. \n\nÜritust viivad läbi Reeli ja Marko\nAlustame kell 19:00 ja lõpp orienteeruvalt 22:00\nTasakaalupanus: 30.- inimese kohta \n\nNagu ikka\, kui Sul on oma nöörid\, siis soovitame need kaasa haarata (mis nad kodus ikka tolmu koguvad ja kasutades muutuvad nad aina pehmemaks)! \n\nPalun kinnita oma üritusel osalemine registreerudes:\nhttps://forms.gle/a8FV9FQNnW5B7W5SA
URL:https://www.koieparadiis.ee/sundmus/shibari-ohtu-armastan-valu-%e2%9d%a4%ef%b8%8f/
LOCATION:Köieparadiis\, Tartu mnt 80j\, Tallinn\, 10112\, Estonia
ATTACH;FMTTYPE=image/jpeg:https://www.koieparadiis.ee/wp-content/uploads/2024/04/shibari_in_the_ropes.jpg
END:VEVENT
BEGIN:VEVENT
DTSTART;TZID=Europe/Tallinn:20260214T190000
DTEND;TZID=Europe/Tallinn:20260214T220000
DTSTAMP:20260419T183451
CREATED:20251226T113446Z
LAST-MODIFIED:20260118T173121Z
UID:1885-1771095600-1771106400@www.koieparadiis.ee
SUMMARY:Armastusega köidetud: shibariõhtu paaridele 💕
DESCRIPTION:Kas argirutiin on tõstnud tuure ja muutnud suhte pingelisemaks kui varem?Päevad lendavad kui linnud ja õhtud kodus mööduvad teinetest märkamata?Olete alles tutvunud ja tahaksite kiirendada teineteise tundma õppimist?Soovite taaselavdada kustunud kirge ja lahti rebida teineteise iseenesestvõetavusest?Soovite avastada kaaslases või endas uusi tahke ja neid teineteisega jagada? \n\n\nSellel õhtul aitame teil läbi erinevate kohaolu- ja shibari praktikate kogeda õrnust\, hellust\, hoitust\, tähelepanu\, teineteise märkamist ja mängulisust.Omandate uusi nippe\, mida saate hiljem omal käel korrata või edasi arendada.Ühiselt loodud toetavas ja turvalises ruumis keskendute kogu õhtu ainult teineteisele ja võite avastada nii enda kui kaaslase kohta nii mõndagi uut. \n\nAga mis on shibari?\nShibari on Jaapanist pärit sidumiskunst\, kus läbi köite abil kinni sidumise on võimalik saavutada erinevaid efekte\,alustades suure turvatunde või hoituse tekitamisest või hoopis läbi ebamugavuse aktiveerides teist laadi emotsioone.Shibari võimaldab suhelda ilma sõnadeta ja anda edasi enda emotsioone/mõtteid\, mis võib vahel aidata parandada suhtlust olukordades\, kus rääkida tundub liiga raske.Seetõttu kogeb enamus inimesi peale shibari sessiooni suuremat lähedust ja ühendust oma kaaslasega.\n\nShibarist loe pikemalt Köieparadiisi kodulehelt: https://www.koieparadiis.ee/shibari/ \n\nTehnikad oleme välja valinud ja kokku põiminud oma kogemuste varasalvest\, võttes arvesse meile endale positiivselt mõjunud ja emotsionaalset ühendust suurendanud elamusi.\n\nOlete oodatud täpselt sellistena nagu te olete. Pole oluline\, kas olete alles tutvunud või juba aastakümneid koos elanud. Eelnevad kogemused shibarist pole vajalikud. \nÜrituse algus kell 19:00 ja lõpp orienteeruvalt kell 22:00 \n\n\nÜritust viivad läbi Reeli ja Marko. \n\nReeli alustas oma tantra- ja joogateekonda üle 10 aasta tagasi ja shibariga on tegelenud pea sama kaua. Need aastad on sisaldanud endas väga mitmekülgseid kogemusi ja arenguid\, mis on toonud ta tänaseks sellisesse punkti\, kus tunneb südamesoovi jagada neid kogutud teadmisi ka teistega\, et aidata tuua väsinud nägudesse tagasi sära ja kirglikkust.\n\nMarkoga\, kes avastas samad maailmad 4 aastat aastat tagasi\, ristusid teed maagiliselt ja ootamatult üsna varsti ning algselt võimatuna tundunud kohast hakkas kiirelt arenema vastastikune teineteist toetav ja täiendav teekond\, mis ikka veel tundub kohati müstiliselt ebareaalne. \n\nKohtume Köieparadiisis\, Tartu mnt 80j\, C-sissepääs\, kolmas korrus.\n\nOsalustasu paarile 66.- tasudes ettemaksuna (info registreerumisel).Kohapeal sularahas 75.- \n\nPalun registreeruda lingil:\n\nhttps://forms.gle/9v4tRztz9j3wbWqG6 \n\nLisainfo FB sõnumites või e-mailil: koieparadiis@gmail.com
URL:https://www.koieparadiis.ee/sundmus/armastusega-koidetud-shibariohtu-paaridele-%f0%9f%92%95/
LOCATION:Köieparadiis\, Tartu mnt 80j\, Tallinn\, 10112\, Estonia
ATTACH;FMTTYPE=image/jpeg:https://www.koieparadiis.ee/wp-content/uploads/2025/12/IMG_4052a-scaled.jpg
END:VEVENT
BEGIN:VEVENT
DTSTART;TZID=Europe/Tallinn:20260218T190000
DTEND;TZID=Europe/Tallinn:20260218T220000
DTSTAMP:20260419T183451
CREATED:20260128T094829Z
LAST-MODIFIED:20260128T134405Z
UID:1956-1771441200-1771452000@www.koieparadiis.ee
SUMMARY:Shibari praktikaõhtu TAEVAS 18.02.2026
DESCRIPTION:Shibari praktikaõhtu TAEVAS on praktilisi teadmisi andev õhtu edasijõudnutele\, kus on võimalus omandada uusi tehnikaid ja/või lihvida seniseid oskusi.\nÕpime erinevaid mustreid ja jagame inspiratsiooni kuidas osaliselt või täielikult õhus rippudes erinevaid kogemusi saab luua ja juhime tähelepanu olulistele elementidele\, et sidumine sujuvamalt ja ohutumalt kulgeks.\nTõstame partneri (või vahel ka iseennast) kõrgustesse ja aitame kogeda ümbritsevat maailma argipäevaga võrreldes hoopis teise nurga alt.Kuidas see õhtu seekord täpsemalt välja näeb? Tule kohale ja avasta \n\nSellele õhtule on oodatud huvilised\, kes on lisaks baassõlmedele ja ohutustehnikale kokku puutunud ka juba riputuse baastehnikatega.(Juhul kui sul neid teadmisi veel ei ole\, siis otsi meie lehelt infot Shibari algkursuse ja/või Riputuse ABC kursuse kohta  )\nÜritust viivad läbi Reeli ja Marko\nAlustame kell 19:00 ja lõpp orienteeruvalt 22:00\n\nHind: 30.- inimese kohta \n\nNagu ikka\, kui Sul on oma nöörid\, siis soovitame need kaasa haarata (mis nad kodus ikka tolmu koguvad ja kasutades muutuvad nad aina pehmemaks)!\nPalun kinnita oma üritusel osalemine registreerudes:\nhttps://forms.gle/duj8sPL95JGYTBJt8
URL:https://www.koieparadiis.ee/sundmus/shibari-praktikaohtu-taevas-18-02-2026/
LOCATION:Köieparadiis\, Tartu mnt 80j\, Tallinn\, 10112\, Estonia
ATTACH;FMTTYPE=image/jpeg:https://www.koieparadiis.ee/wp-content/uploads/2026/01/Reeli-ja-Marko-3558a-scaled.jpg
END:VEVENT
BEGIN:VEVENT
DTSTART;TZID=Europe/Tallinn:20260228T190000
DTEND;TZID=Europe/Tallinn:20260228T230000
DTSTAMP:20260419T183451
CREATED:20260109T210105Z
LAST-MODIFIED:20260109T212657Z
UID:1933-1772305200-1772319600@www.koieparadiis.ee
SUMMARY:Köieparadiisi 3.sünnipäeva tähistamine!
DESCRIPTION:Köieparadiisil täitub taas uus aastaring! Juba 3. 🤩 \nSee aasta on olnud sisutihe ja regulaarses rütmis koos tavapärasest erinevate lisaüritustega. Mitmed välismaiseid shibari õpetajaid leidsid tee Köieparadiisi ruumidesse nii meie algatusel kui läbi teiste tublide organiseerijate. Oleme tänulikud neile\, et ürituse läbiviimiseks valiti just meie saal ning eriti südantsoojendav on olnud kuulda erinevatelt välismaistelt õpetajatelt härdaid sõnu meie shibari kogukonna kohta. Nad räägivad\, et nii sooja ja kokkuhoidvat kogukonda ei ole nad mujal kohanud ning samuti imetlevad nad eestlaste õppimisvõime kiirust. \nTõesti\, ka meie oleme nõus\, et Köieparadiisis kasvav shibari kogukond on lihtsalt võrratute inimeste kooslus\, kellele on rõõm üritusi luua ja te aiate ka meil järjest edasi areneda. Oleme ülitänulikud kõigile teile\, kes te olete leidnud oma tee kasvõi ühele üritusele meie juures! 🥰 \nNeed emotsioonid\, pilgud\, jagamised\, ühised mängud ning eemalt jälgitud sidumisprotsessid on täitnud meie südameid mõõtmatus koguses helguse ja tänutundega 🥰 Imeline on olnud olla tunnistajaks neile muutustele\, mida esmakordne või põhjalikum köiekogemus võib esile tuua ja jälgida regulaarselt kohalkäijate arengut shibari praktiseerimisel. \n  \nSünnipäeva puhul soovime teid taas kokku kutsuda ja kostitada tordiga ning pakkuda meelelahutust\, silmailu ja jagada teiega uuel aastal toimuvaid suuremat sorti muutusi/uudiseid! \nKindlasti ei puudu ka mõnusad vestlused ning teretulnud on igasugused omavahelised mängimised ja sidumised 😉 \n  \nÜritus on tasuta. Aga kui soovid teha sünnipäeva puhul meile kingitust\, siis on selleks kohapeal olemas annetuspurk või ülekanne Arctium OÜ kontole: \nEE887700771010799724  selgitusena lisa “sünnipäev” \n  \nOotame teid kõiki meiega koos tähistama! \nSüdamest tänulikud\, \nReeli ja Marko \n  \nPalun registreeru siin: \nhttps://forms.gle/1UdJ78E6wBqdCUHBA
URL:https://www.koieparadiis.ee/sundmus/koieparadiisi-3-sunnipaeva-tahistamine/
LOCATION:Köieparadiis\, Tartu mnt 80j\, Tallinn\, 10112\, Estonia
ATTACH;FMTTYPE=image/jpeg:https://www.koieparadiis.ee/wp-content/uploads/2026/01/Koieparadiisi-sunnipaev.jpg
END:VEVENT
END:VCALENDAR