BEGIN:VCALENDAR
VERSION:2.0
PRODID:-//Köieparadiis - ECPv6.12.0//NONSGML v1.0//EN
CALSCALE:GREGORIAN
METHOD:PUBLISH
X-ORIGINAL-URL:https://www.koieparadiis.ee
X-WR-CALDESC:Events for Köieparadiis
REFRESH-INTERVAL;VALUE=DURATION:PT1H
X-Robots-Tag:noindex
X-PUBLISHED-TTL:PT1H
BEGIN:VTIMEZONE
TZID:Europe/Tallinn
BEGIN:DAYLIGHT
TZOFFSETFROM:+0200
TZOFFSETTO:+0300
TZNAME:EEST
DTSTART:20260329T010000
END:DAYLIGHT
BEGIN:STANDARD
TZOFFSETFROM:+0300
TZOFFSETTO:+0200
TZNAME:EET
DTSTART:20261025T010000
END:STANDARD
END:VTIMEZONE
BEGIN:VEVENT
DTSTART;TZID=Europe/Tallinn:20260605T190000
DTEND;TZID=Europe/Tallinn:20260607T200000
DTSTAMP:20260419T200407
CREATED:20260413T085908Z
LAST-MODIFIED:20260416T075734Z
UID:2097-1780686000-1780862400@www.koieparadiis.ee
SUMMARY:Shibari Expo 2026
DESCRIPTION:Shibari Expo – nädalavahetus\, mis avab ukse uude kogemusse 😍 \nKas oled kunagi tundnud uudishimu shibari maailma vastu\, kuid pole teadnud\, kust alustada? Shibari Expo on ainulaadne võimalus astuda sellesse põnevasse ja mitmekihilisse maailma täpselt nii sügavalt\, kui ise soovid. See ei ole lihtsalt üritus – see on kogemus\, mis ühendab esteetika\, usalduse\, kohalolu\, inimestevahelise sügava kontakti ning võimaluse saada kõigile oma küsimustele vastused. \nReede õhtul toimub sissejuhatus koos shibari esinemistega\, kus Reeli & Marko ning Olavi & Maria näitavad julgelt ja ehedalt\, milline võib olla shibari sessioon inimeste vahel\, kellel on juba pikaajaline kogemus ja omavaheline täielik usaldus ja tundmine. Kus tulevad mängu kõik pisidetailid\, mida partneri kohta tead\, kui hästi oskad teda lugeda ja suunata tema käitumist ning eelnevad ühised kogemised\, mida annab vahel taaselustada hetkega. \nLaupäeval ja pühapäeval on võimalus ise osa saada või eemalt vaadata shibarit tema totaalses haavatavuses\, kuidas arenevad sessioonid kogenud sidujate ja võõraste inimeste vahel\, kus tuleb mängu uudishimu\, aeglus ja tähelepanu. Samuti on võimalus suhelda kõigi sidujatega\, kui nad just parasjagu sessiooni läbi ei vii. \nVaata pikemat ürituse kirjeldust ja tutvu sidujatega siin: https://www.koieparadiis.ee/shibari-expo-2026/
URL:https://www.koieparadiis.ee/sundmus/shibari-expo-2026/
LOCATION:Köieparadiis\, Tartu mnt 80j\, Tallinn\, 10112\, Estonia
ATTACH;FMTTYPE=image/jpeg:https://www.koieparadiis.ee/wp-content/uploads/2026/04/shibari-expo-2026.jpg
END:VEVENT
END:VCALENDAR